BEGIN:VCALENDAR
VERSION:2.0
PRODID:-//Wag and Bone - ECPv6.15.12.2//NONSGML v1.0//EN
CALSCALE:GREGORIAN
METHOD:PUBLISH
X-ORIGINAL-URL:https://wag-bone.com
X-WR-CALDESC:Events for Wag and Bone
REFRESH-INTERVAL;VALUE=DURATION:PT1H
X-Robots-Tag:noindex
X-PUBLISHED-TTL:PT1H
BEGIN:VTIMEZONE
TZID:America/New_York
BEGIN:DAYLIGHT
TZOFFSETFROM:-0500
TZOFFSETTO:-0400
TZNAME:EDT
DTSTART:20240310T070000
END:DAYLIGHT
BEGIN:STANDARD
TZOFFSETFROM:-0400
TZOFFSETTO:-0500
TZNAME:EST
DTSTART:20241103T060000
END:STANDARD
BEGIN:DAYLIGHT
TZOFFSETFROM:-0500
TZOFFSETTO:-0400
TZNAME:EDT
DTSTART:20250309T070000
END:DAYLIGHT
BEGIN:STANDARD
TZOFFSETFROM:-0400
TZOFFSETTO:-0500
TZNAME:EST
DTSTART:20251102T060000
END:STANDARD
BEGIN:DAYLIGHT
TZOFFSETFROM:-0500
TZOFFSETTO:-0400
TZNAME:EDT
DTSTART:20260308T070000
END:DAYLIGHT
BEGIN:STANDARD
TZOFFSETFROM:-0400
TZOFFSETTO:-0500
TZNAME:EST
DTSTART:20261101T060000
END:STANDARD
END:VTIMEZONE
BEGIN:VEVENT
DTSTART;TZID=America/New_York:20250503T120000
DTEND;TZID=America/New_York:20250503T140000
DTSTAMP:20260424T151533
CREATED:20250418T185640Z
LAST-MODIFIED:20250429T193929Z
UID:4683-1746273600-1746280800@wag-bone.com
SUMMARY:Every Last One Rescue Adoption Event
DESCRIPTION:
URL:https://wag-bone.com/event/every-last-one-rescue-adoption-event/
ATTACH;FMTTYPE=image/jpeg:https://wag-bone.com/wp-content/uploads/2025/04/IMG_8294-1-scaled.jpg
END:VEVENT
BEGIN:VEVENT
DTSTART;TZID=America/New_York:20250515T190000
DTEND;TZID=America/New_York:20250515T210000
DTSTAMP:20260424T151533
CREATED:20250422T153133Z
LAST-MODIFIED:20250422T194235Z
UID:4704-1747335600-1747342800@wag-bone.com
SUMMARY:Sofar Sounds Concert Supporting Badass Brooklyn Animal Rescue
DESCRIPTION:We’re hosting our first Sofar Sounds concert in support of Badass Brooklyn Animal Rescue. We’ll have delicious food available for purchase from Karachi Kebab Boyz! \nAlong with three amazing artists brightening your day\, Badass Animal Rescue will be on-site with adorable dogs available for adoption. Play with a pup\, volunteer\, and donate to this fantastic local organization we love. It’s a night of great music and even greater causes!
URL:https://wag-bone.com/event/sofar-sounds-concert-supporting-badass-brooklyn-animal-rescue/
ATTACH;FMTTYPE=image/jpeg:https://wag-bone.com/wp-content/uploads/2025/04/Image.jpeg
END:VEVENT
BEGIN:VEVENT
DTSTART;TZID=America/New_York:20250518T130000
DTEND;TZID=America/New_York:20250518T160000
DTSTAMP:20260424T151533
CREATED:20250422T152829Z
LAST-MODIFIED:20250422T152829Z
UID:4700-1747573200-1747584000@wag-bone.com
SUMMARY:Rescue City Adoption Event
DESCRIPTION:Meet adoptable dogs from Rescue City.
URL:https://wag-bone.com/event/rescue-city-adoption-event/
END:VEVENT
BEGIN:VEVENT
DTSTART;TZID=America/New_York:20250524T120000
DTEND;TZID=America/New_York:20250524T150000
DTSTAMP:20260424T151533
CREATED:20250422T152945Z
LAST-MODIFIED:20250422T152945Z
UID:4702-1748088000-1748098800@wag-bone.com
SUMMARY:Waldo's Rescue Adoption Event
DESCRIPTION:Meet adoptable dogs from Waldo’s Rescue.
URL:https://wag-bone.com/event/waldos-rescue-adoption-event/
END:VEVENT
END:VCALENDAR