BEGIN:VCALENDAR
VERSION:2.0
PRODID:-//Wag and Bone - ECPv6.15.12.2//NONSGML v1.0//EN
CALSCALE:GREGORIAN
METHOD:PUBLISH
X-ORIGINAL-URL:https://wag-bone.com
X-WR-CALDESC:Events for Wag and Bone
REFRESH-INTERVAL;VALUE=DURATION:PT1H
X-Robots-Tag:noindex
X-PUBLISHED-TTL:PT1H
BEGIN:VTIMEZONE
TZID:America/New_York
BEGIN:DAYLIGHT
TZOFFSETFROM:-0500
TZOFFSETTO:-0400
TZNAME:EDT
DTSTART:20240310T070000
END:DAYLIGHT
BEGIN:STANDARD
TZOFFSETFROM:-0400
TZOFFSETTO:-0500
TZNAME:EST
DTSTART:20241103T060000
END:STANDARD
BEGIN:DAYLIGHT
TZOFFSETFROM:-0500
TZOFFSETTO:-0400
TZNAME:EDT
DTSTART:20250309T070000
END:DAYLIGHT
BEGIN:STANDARD
TZOFFSETFROM:-0400
TZOFFSETTO:-0500
TZNAME:EST
DTSTART:20251102T060000
END:STANDARD
BEGIN:DAYLIGHT
TZOFFSETFROM:-0500
TZOFFSETTO:-0400
TZNAME:EDT
DTSTART:20260308T070000
END:DAYLIGHT
BEGIN:STANDARD
TZOFFSETFROM:-0400
TZOFFSETTO:-0500
TZNAME:EST
DTSTART:20261101T060000
END:STANDARD
END:VTIMEZONE
BEGIN:VEVENT
DTSTART;TZID=America/New_York:20250426T120000
DTEND;TZID=America/New_York:20250426T150000
DTSTAMP:20260425T085536
CREATED:20250418T182003Z
LAST-MODIFIED:20250418T182003Z
UID:4678-1745668800-1745679600@wag-bone.com
SUMMARY:Waggytail Rescue Adoption Event
DESCRIPTION:
URL:https://wag-bone.com/event/waggytail-rescue-adoption-event/
END:VEVENT
BEGIN:VEVENT
DTSTART;TZID=America/New_York:20250426T130000
DTEND;TZID=America/New_York:20250426T160000
DTSTAMP:20260425T085536
CREATED:20250418T180626Z
LAST-MODIFIED:20250418T180800Z
UID:4675-1745672400-1745683200@wag-bone.com
SUMMARY:Playfield Paint & Sip Event
DESCRIPTION:New York!! Paint Your Pet Party with our friends at @ourplayfield and @paintthetown.events on Saturday\, April 26th from 1-4PM. \nIt’s totally free\, and you’ll be guided by an instructor to paint your pet and take home your creative canvas masterpiece. Come party with us and take home some special goodie bags too 👀 \nLink in @ourplayfield bio for more details and to register!
URL:https://wag-bone.com/event/playfield-paint-sip-event/
END:VEVENT
BEGIN:VEVENT
DTSTART;TZID=America/New_York:20250429T190000
DTEND;TZID=America/New_York:20250429T210000
DTSTAMP:20260425T085536
CREATED:20250422T153235Z
LAST-MODIFIED:20250422T153311Z
UID:4706-1745953200-1745960400@wag-bone.com
SUMMARY:Yelp Elite Event
DESCRIPTION:We’re hosting a Yelp Elite cocktail hour. This event is invite only.
URL:https://wag-bone.com/event/yelp-elite-event/
END:VEVENT
BEGIN:VEVENT
DTSTART;TZID=America/New_York:20250503T120000
DTEND;TZID=America/New_York:20250503T140000
DTSTAMP:20260425T085536
CREATED:20250418T185640Z
LAST-MODIFIED:20250429T193929Z
UID:4683-1746273600-1746280800@wag-bone.com
SUMMARY:Every Last One Rescue Adoption Event
DESCRIPTION:
URL:https://wag-bone.com/event/every-last-one-rescue-adoption-event/
ATTACH;FMTTYPE=image/jpeg:https://wag-bone.com/wp-content/uploads/2025/04/IMG_8294-1-scaled.jpg
END:VEVENT
BEGIN:VEVENT
DTSTART;TZID=America/New_York:20250515T190000
DTEND;TZID=America/New_York:20250515T210000
DTSTAMP:20260425T085536
CREATED:20250422T153133Z
LAST-MODIFIED:20250422T194235Z
UID:4704-1747335600-1747342800@wag-bone.com
SUMMARY:Sofar Sounds Concert Supporting Badass Brooklyn Animal Rescue
DESCRIPTION:We’re hosting our first Sofar Sounds concert in support of Badass Brooklyn Animal Rescue. We’ll have delicious food available for purchase from Karachi Kebab Boyz! \nAlong with three amazing artists brightening your day\, Badass Animal Rescue will be on-site with adorable dogs available for adoption. Play with a pup\, volunteer\, and donate to this fantastic local organization we love. It’s a night of great music and even greater causes!
URL:https://wag-bone.com/event/sofar-sounds-concert-supporting-badass-brooklyn-animal-rescue/
ATTACH;FMTTYPE=image/jpeg:https://wag-bone.com/wp-content/uploads/2025/04/Image.jpeg
END:VEVENT
BEGIN:VEVENT
DTSTART;TZID=America/New_York:20250518T130000
DTEND;TZID=America/New_York:20250518T160000
DTSTAMP:20260425T085536
CREATED:20250422T152829Z
LAST-MODIFIED:20250422T152829Z
UID:4700-1747573200-1747584000@wag-bone.com
SUMMARY:Rescue City Adoption Event
DESCRIPTION:Meet adoptable dogs from Rescue City.
URL:https://wag-bone.com/event/rescue-city-adoption-event/
END:VEVENT
BEGIN:VEVENT
DTSTART;TZID=America/New_York:20250524T120000
DTEND;TZID=America/New_York:20250524T150000
DTSTAMP:20260425T085536
CREATED:20250422T152945Z
LAST-MODIFIED:20250422T152945Z
UID:4702-1748088000-1748098800@wag-bone.com
SUMMARY:Waldo's Rescue Adoption Event
DESCRIPTION:Meet adoptable dogs from Waldo’s Rescue.
URL:https://wag-bone.com/event/waldos-rescue-adoption-event/
END:VEVENT
BEGIN:VEVENT
DTSTART;TZID=America/New_York:20250603T110000
DTEND;TZID=America/New_York:20250603T114500
DTSTAMP:20260425T085536
CREATED:20250603T145736Z
LAST-MODIFIED:20250603T145736Z
UID:4774-1748948400-1748951100@wag-bone.com
SUMMARY:Puppy Play Q & A with Shelby Semel Dog Training
DESCRIPTION:45 minutes of playtime with training breaks to ask our trainer questions on the topic of the night! \nPuppies must be 8-15 weeks for first class\, have proof of a negative fecal test from local vet dated within 3 weeks of their first attendance\, not attend dog park or daycare. \nOnce they attend dog park or daycare\, or turn 18 weeks\, it’s time for our Adolescent Play classes! \nNO REFUNDS OR EXCHANGES \nhttps://www.shelbydogtraining.com/group-classes
URL:https://wag-bone.com/event/puppy-play-q-a-with-shelby-semel-dog-training/
END:VEVENT
BEGIN:VEVENT
DTSTART;TZID=America/New_York:20250614T110000
DTEND;TZID=America/New_York:20250614T120000
DTSTAMP:20260425T085536
CREATED:20250603T145457Z
LAST-MODIFIED:20250603T145457Z
UID:4768-1749898800-1749902400@wag-bone.com
SUMMARY:Puppy Play and Q&A Classes with Shelby Semel
DESCRIPTION:45 minutes of playtime with training breaks to ask our trainer questions on the topic of the night! \nPuppies must be 8-15 weeks for first class\, have proof of a negative fecal test from local vet dated within 3 weeks of their first attendance\, not attend dog park or daycare. \nOnce they attend dog park or daycare\, or turn 18 weeks\, it’s time for our Adolescent Play classes! \nNO REFUNDS OR EXCHANGES \nhttps://www.shelbydogtraining.com/group-classes
URL:https://wag-bone.com/event/puppy-play-and-qa-classes-with-shelby-semel/
END:VEVENT
BEGIN:VEVENT
DTSTART;TZID=America/New_York:20250621T140000
DTEND;TZID=America/New_York:20250621T160000
DTSTAMP:20260425T085536
CREATED:20250603T145553Z
LAST-MODIFIED:20250603T145553Z
UID:4770-1750514400-1750521600@wag-bone.com
SUMMARY:Pippa in the Park Playdate
DESCRIPTION:
URL:https://wag-bone.com/event/pippa-in-the-park-playdate/
END:VEVENT
BEGIN:VEVENT
DTSTART;TZID=America/New_York:20250627T190000
DTEND;TZID=America/New_York:20250627T210000
DTSTAMP:20260425T085536
CREATED:20250603T145633Z
LAST-MODIFIED:20250603T145633Z
UID:4772-1751050800-1751058000@wag-bone.com
SUMMARY:Poodle Doods Movie Night
DESCRIPTION:
URL:https://wag-bone.com/event/poodle-doods-movie-night/
END:VEVENT
BEGIN:VEVENT
DTSTART;TZID=America/New_York:20250629T120000
DTEND;TZID=America/New_York:20250629T150000
DTSTAMP:20260425T085536
CREATED:20250603T145820Z
LAST-MODIFIED:20250603T145820Z
UID:4776-1751198400-1751209200@wag-bone.com
SUMMARY:Adoption Event with Barrk
DESCRIPTION:
URL:https://wag-bone.com/event/adoption-event-with-barrk/
END:VEVENT
BEGIN:VEVENT
DTSTART;TZID=America/New_York:20250708T190000
DTEND;TZID=America/New_York:20250708T200000
DTSTAMP:20260425T085536
CREATED:20250603T145924Z
LAST-MODIFIED:20250603T145924Z
UID:4778-1752001200-1752004800@wag-bone.com
SUMMARY:Puppy Kindergarten Class
DESCRIPTION:The essential class for all young puppies! In this class you’ll learn how to socialize your puppy to become a confident and carefree city canine. We will gently and positively introduce your puppy to potentially scary things\, like skateboards\, crutches\, and city noises. They’ll learn important social skills from the other puppies\, and we’ll cover some foundation obedience cues and basic puppy topics as well. \nPups must be: \n\n\n16 weeks and under to join \n\n\nUp to date on current vaccinations \n\n\nProof of a negative fecal sample \n\n\nNot attending the dog parks or daycare \n\n\nhttps://www.shelbydogtraining.com/group-classes
URL:https://wag-bone.com/event/puppy-kindergarten-class/
END:VEVENT
BEGIN:VEVENT
DTSTART;TZID=America/New_York:20250709T190000
DTEND;TZID=America/New_York:20250709T200000
DTSTAMP:20260425T085536
CREATED:20250626T181039Z
LAST-MODIFIED:20250626T181039Z
UID:4854-1752087600-1752091200@wag-bone.com
SUMMARY:Ben Lenovitz Presents... Pick Up My Poop \, A dog friendly show
DESCRIPTION:Join Ben Lenovitz for an evening of dog-friendly entertainment at Wag & Bone Club in LIC. \nYou’re in for a hilarious evening featuring comedians\, live drawing\, clowns\, and interpretive dance. \nWell-behaved dogs are welcome. Please email their shot records to shots@wag-bone.com.
URL:https://wag-bone.com/event/ben-lenovitz-presents-pick-up-my-poop-a-dog-friendly-show/
END:VEVENT
BEGIN:VEVENT
DTSTART;TZID=America/New_York:20250710T183000
DTEND;TZID=America/New_York:20250710T193000
DTSTAMP:20260425T085536
CREATED:20250603T150017Z
LAST-MODIFIED:20250603T150039Z
UID:4780-1752172200-1752175800@wag-bone.com
SUMMARY:Music Happy Hour by The McManleys
DESCRIPTION:
URL:https://wag-bone.com/event/music-happy-hour-by-the-mcmanleys/
END:VEVENT
BEGIN:VEVENT
DTSTART;TZID=America/New_York:20250713T160000
DTEND;TZID=America/New_York:20250713T180000
DTSTAMP:20260425T085536
CREATED:20250603T150125Z
LAST-MODIFIED:20250603T150125Z
UID:4782-1752422400-1752429600@wag-bone.com
SUMMARY:Weenmeet Meet Up
DESCRIPTION:
URL:https://wag-bone.com/event/weenmeet-meet-up/
END:VEVENT
BEGIN:VEVENT
DTSTART;TZID=America/New_York:20250713T180000
DTEND;TZID=America/New_York:20250713T200000
DTSTAMP:20260425T085536
CREATED:20250603T150251Z
LAST-MODIFIED:20250603T150251Z
UID:4784-1752429600-1752436800@wag-bone.com
SUMMARY:NYC Trivia League Trivia Night
DESCRIPTION:
URL:https://wag-bone.com/event/nyc-trivia-league-trivia-night/
END:VEVENT
BEGIN:VEVENT
DTSTART;TZID=America/New_York:20250726T130000
DTEND;TZID=America/New_York:20250726T150000
DTSTAMP:20260425T085536
CREATED:20250603T150511Z
LAST-MODIFIED:20250603T150511Z
UID:4788-1753534800-1753542000@wag-bone.com
SUMMARY:Weenmeet Meet Up
DESCRIPTION:
URL:https://wag-bone.com/event/weenmeet-meet-up-2/
END:VEVENT
BEGIN:VEVENT
DTSTART;TZID=America/New_York:20250802T130000
DTEND;TZID=America/New_York:20250802T150000
DTSTAMP:20260425T085536
CREATED:20250603T150547Z
LAST-MODIFIED:20250603T150547Z
UID:4790-1754139600-1754146800@wag-bone.com
SUMMARY:NYC Pug Meet Up
DESCRIPTION:
URL:https://wag-bone.com/event/nyc-pug-meet-up/
END:VEVENT
END:VCALENDAR