BEGIN:VCALENDAR
VERSION:2.0
PRODID:-//Wag and Bone - ECPv6.15.12.2//NONSGML v1.0//EN
CALSCALE:GREGORIAN
METHOD:PUBLISH
X-WR-CALNAME:Wag and Bone
X-ORIGINAL-URL:https://wag-bone.com
X-WR-CALDESC:Events for Wag and Bone
REFRESH-INTERVAL;VALUE=DURATION:PT1H
X-Robots-Tag:noindex
X-PUBLISHED-TTL:PT1H
BEGIN:VTIMEZONE
TZID:America/New_York
BEGIN:DAYLIGHT
TZOFFSETFROM:-0500
TZOFFSETTO:-0400
TZNAME:EDT
DTSTART:20240310T070000
END:DAYLIGHT
BEGIN:STANDARD
TZOFFSETFROM:-0400
TZOFFSETTO:-0500
TZNAME:EST
DTSTART:20241103T060000
END:STANDARD
BEGIN:DAYLIGHT
TZOFFSETFROM:-0500
TZOFFSETTO:-0400
TZNAME:EDT
DTSTART:20250309T070000
END:DAYLIGHT
BEGIN:STANDARD
TZOFFSETFROM:-0400
TZOFFSETTO:-0500
TZNAME:EST
DTSTART:20251102T060000
END:STANDARD
BEGIN:DAYLIGHT
TZOFFSETFROM:-0500
TZOFFSETTO:-0400
TZNAME:EDT
DTSTART:20260308T070000
END:DAYLIGHT
BEGIN:STANDARD
TZOFFSETFROM:-0400
TZOFFSETTO:-0500
TZNAME:EST
DTSTART:20261101T060000
END:STANDARD
END:VTIMEZONE
BEGIN:VEVENT
DTSTART;TZID=America/New_York:20250708T190000
DTEND;TZID=America/New_York:20250708T200000
DTSTAMP:20260424T201454
CREATED:20250603T145924Z
LAST-MODIFIED:20250603T145924Z
UID:4778-1752001200-1752004800@wag-bone.com
SUMMARY:Puppy Kindergarten Class
DESCRIPTION:The essential class for all young puppies! In this class you’ll learn how to socialize your puppy to become a confident and carefree city canine. We will gently and positively introduce your puppy to potentially scary things\, like skateboards\, crutches\, and city noises. They’ll learn important social skills from the other puppies\, and we’ll cover some foundation obedience cues and basic puppy topics as well. \nPups must be: \n\n\n16 weeks and under to join \n\n\nUp to date on current vaccinations \n\n\nProof of a negative fecal sample \n\n\nNot attending the dog parks or daycare \n\n\nhttps://www.shelbydogtraining.com/group-classes
URL:https://wag-bone.com/event/puppy-kindergarten-class/
END:VEVENT
END:VCALENDAR